Workbook
Name _ftn1: 'Objective 1. Section III'!#REF!
Name _ftn10: 'Objective 1. Section III'!$B$134
Name _ftn11: 'Objective 1. Section III'!$B$135
Name _ftn12: 'Objective 1. Section III'!$B$136
Name _ftn13: 'Objective 1. Section III'!$B$137
Name _ftn14: 'Objective 1. Section III'!$B$138
Name _ftn2: 'Objective 1. Section III'!$B$126
Name _ftn3: 'Objective 1. Section III'!$B$127
Name _ftn4: 'Objective 1. Section III'!$B$128
Name _ftn5: 'Objective 1. Section III'!$B$129
Name _ftn6: 'Objective 1. Section III'!$B$130
Name _ftn7: 'Objective 1. Section III'!$B$131
Name _ftn8: 'Objective 1. Section III'!$B$132
Name _ftn9: 'Objective 1. Section III'!$B$133
Name _ftnref1: 'Objective 1. Section III'!#REF!
Name _ftnref10: 'Objective 1. Section III'!$B$102
Name _ftnref11: 'Objective 1. Section III'!$B$103
Name _ftnref14: 'Objective 1. Section III'!$B$123
Name _ftnref2: 'Objective 1. Section III'!#REF!
Name _ftnref3: 'Objective 1. Section III'!$D$28
Name _ftnref4: 'Objective 1. Section III'!#REF!
Name _ftnref5: 'Objective 1. Section III'!$B$30
Name _ftnref6: 'Objective 1. Section III'!$B$51
Name _ftnref7: 'Objective 1. Section III'!$E$51
Name _ftnref8: 'Objective 1. Section III'!$B$70
Name _ftnref9: 'Objective 1. Section III'!$B$78
Name CCM2_EnergyEfficiency: 'drop down entries'!$B$16:$B$21
Name CCM3_RenewableEnergy: 'drop down entries'!$C$10:$C$21
Name CCM4_TransportUrban: 'drop down entries'!$D$10:$D$21
Name CCM5_LULUCF: 'drop down entries'!$A$10:$A$16
Name Energy_Efficiency: 'drop down entries'!$B$49:$B$57
Name kk: #REF!
Name level: [1]te_Proj_inputs!$B$31:$B$37
Name LULUCF: 'drop down entries'!$E$49:$E$54
Name o1a: [1]te_Proj_inputs!$B$50:$B$55
Name Other: 'drop down entries'!$F$49:$F$56
Name Renewable_Energy: 'drop down entries'!$C$49:$C$59
Name tObjectives: #REF!
Name Transport_Urban: 'drop down entries'!$D$49:$D$59
Name TT_Choices: 'drop down entries'!$A$49:$A$53
Name yn: [1]te_Proj_inputs!$C$3:$C$5

Sheet Explanations
A4: This Tracking Tool shall track the targets and their achievements from concept (PIF) to evaluation.
A5: It is consistent with the results framework for Climate Change Mitigation.
A7: The data that we collect through this Tracking Tool are intended to be fed automatically into the PMIS.
A8: The data will help us track and monitor the results of projects and allow us to quickly filter our portfolio and report to donors, council and conventions in the most accurate way on GHG emission reductions, investments and other facts.
A10: Please fill in the relevant indicators for each component that is included in the project.

Sheet drop down entries
A1: Protected Sheet
E2: digit_input
E3: 0
E4: 1
A8: if -- then ... Drop down
A9: LULUCF | B9: Energy Efficiency | C9: Renewable Energy
A10: Afforestation | C10: Biomass
A11: Agriculture/Agroforestry | C11: Cogeneration
A12: Avoided Deforestation/Degradation | C12: Geothermal
A13: Carbon Monitoring | C13: Hydro
A14: Mixed | C14: Marine Tech
A15: Reforestation | C15: Mixed
B16: Appliances | C16: Photovoltaic
B17: Cook Stoves | C17: Solar Thermal Cooling
B18: Equipment | C18: Solar Thermal Heating
B19: Existing Building | C19: Solar Thermal Power
B20: Industrial Processes | C20: Wind
B21: Lighting | C21: Other
B22: New Building
B23: Synergies with ODS
B24: Other
A48: TT_Choices | B48: Energy_Efficiency | C48: Renewable_Energy | D48: Transport_Urban | E48: LULUCF | F48: Other
A49: Energy_Efficiency | B49: Appliances | C49: Biomass | D49: Electric vehicles and plug-ins | E49: Afforestation | F49: Carbon capture and storage
A50: Renewable_Energy | B50: Cook stoves | C50: Geothermal | D50: Fuel cell vehicles | E50: Agriculture/agroforestry | F50: Waste management
A51: Transport_Urban | B51: Equipment | C51: Hydrogen | D51: Other lower GHG vehicles | E51: Avoided deforestation/degradation | F51: Energy storage
A52: LULUCF | B52: Existing buildings | C52: Hydro | D52: Transport biofuels | E52: Carbon monitoring | F52: Fuel cells
A53: Other | B53: Industrial processes | C53: Marine (i.e., wave, thermal energy conversion, etc.) | D53: Intelligent transport systems (ITS) | E53: Reforestation | F53: Management system
B54: Lighting | C54: Wind | D54: Rail | E54: Mixed | F54: Monitoring system
B55: New buildings | C55: Photovoltaic | D55: Public rapid transit | F55: Mixed
B56: Power generation, transmission, distribution | C56: Solar thermal power (i.e., Concentrated Solar Power, etc.) | D56: Travel demand management | F56: Other
B57: Mixed | C57: Solar thermal cooling, heating | D57: Logistics
C58: Cogeneration | D58: Transport/Urban Planning
C59: Mixed | D59: Mixed

Sheet Objective 1. Section I
B1: Tracking Tool for Biodiversity Projects in GEF-3, GEF-4, and GEF-5
B4: Objective 1: Catalyzing Sustainability of Protected Area Systems
B5: SECTION I
B7: Objective: To measure progress in achieving the impacts and outcomes established at the portfolio level under the biodiversity focal area. Rationale: Project data from the GEF-3, GEF-4, and GEF-5 project cohort will be aggregated for analysis of directional trends and patterns at a portfolio-wide level to inform the development of future GEF strategies and to report to GEF Council on portfolio-level performance in the biodiversity focal area. Structure of Tracking Tool: Each tracking tool requests background and coverage information on the project and specific information required to track portfolio level indicators in the GEF-3, GEF-4, and GEF-5 strategy. Guidance in Applying GEF Tracking Tools: GEF tracking tools are applied three times: at CEO endorsement, at project mid-term, and at project completion. Submission: The finalized tracking tool will be cleared by the GEF Agencies as being correctly completed.
B8: Important: Please read the Guidelines posted on the GEF website before entering your data
B10: I. General Data | C10: Please indicate your answer here | D10: Notes
B11: Project Title | C11: CBPF-MSL：Strengthening the management effectiveness of the protected area landscape in Altai Mountains and Wetlands
B12: GEF Project ID | C12: 4653
B13: Agency Project ID | C13: 4596
B14: Implementing Agency | C14: UNDP
B15: Project Type | C15: FSP | D15: FSP or MSP
B16: Country | C16: People's Republic of China
B17: Region | C17: EAP
B18: Date of submission of the tracking tool | D18: Month DD, YYYY (e.g., May 12, 2010)
B19: Name of reviewers completing tracking tool and completion date | C19: Nov. 18, 2012 | D19: Completion Date
B20: Planned project duration | C20: 5 | D20: years
B21: Actual project duration | C21: n/a | D21: years
B22: Lead Project Executing Agency (ies) | C22: Xinjiang Forestry Department, Liangheyuan Provincial Nature Reserve Management Bureau, Altai Mountains Forestry Bureau
B24: Date of Council/CEO Approval | D24: Month DD, YYYY (e.g., May 12, 2010)
B25: GEF Grant (US$) | C25: 3544679
B26: Cofinancing expected (US$) | C26: 22000000
B28: II. Total Extent in hectares of protected areas targeted by the project by biome type | C28: Please indicate your answer here
B29: Please note that: Given nature reserve sub-system overwhelmingly dominates the PA system in Xinjiang Uyghur Autonomous Region (XUAR) as indicated in the project document and there are no spatial data available for other PAs beyond nature reserves, the coverage of nature reserve hereinto is calculated below as the substitute of the PA coverage in XUAR. | E29: The total area targeted by the project (i.e. the area of the 5 PAs for which METTs are being done/submitted) is only 1,035,649 ha; that is the area that should be reported in this section. Otherwise, if 22+ million ha are actually being targeted, then why are METTs given for only 1/20th of that area?
B30: Please use the following biomes provided below and place the coverage data within these biomes
B31: Terrestrial (insert total hectares for terrestrial coverage and then provide coverage for each of the terrestrial biomes below)
B32: Total hectares | C32: =SUM(C33:C47) -> 20935499 | D32: ha | E32: =SUM(C72,C80,C88,C96,C104) -> 1035648.7
B33: Tropical and subtropical moist broadleaf forests (tropical and subtropical, humid) | D33: ha
B34: Tropical and subtropical dry broadleaf forests (tropical and subtropical, semi-humid) | D34: ha
B35: Tropical and subtropical coniferous forests (tropical and subtropical, semi-humid) | D35: ha
B36: Temperate broadleaf and mixed forests (temperate, humid) | C36: 395420 | D36: ha
B37: Temperate coniferous forests (temperate, humid to semi-humid) | C37: 65300 | D37: ha
B38: Boreal forests/taiga (subarctic, humid) | D38: ha
B39: Tropical and subtropical grasslands, savannas, and shrublands (tropical and subtropical, semi-arid) | D39: ha
B40: Temperate grasslands, savannas, and shrublands (temperate, semi-arid) | C40: 149957 | D40: ha
B41: Flooded grasslands and savannas (temperate to tropical, fresh or brackish water inundated) | D41: ha
B42: Mangroves | D42: ha
B43: Montane grasslands and shrublands (alpine or montane climate) | C43: 10551435 | D43: ha
B44: Tundra (Arctic) | D44: ha
B45: Mediterranean forests, woodlands, and scrub or Sclerophyll forests (temperate warm, semi-humid to semi-arid with winter rainfall) | D45: ha
B46: Deserts and xeric shrublands (temperate to tropical, arid) | C46: 9773387 | D46: ha
...

Sheet Objective 1. Section II-1
B1: Tracking Tool for Biodiversity Projects in GEF-3, GEF-4, and GEF-5
B4: Objective 1: Catalyzing Sustainability of Protected Area Systems
B5: SECTION II: Management Effectiveness Tracking Tool for Protected Areas
B7: Note: Please complete the management effectiveness tracking tool for EACH protected area that is the target of the GEF intervention and create a new worksheet for each. Structure and content of the Tracking Tool - Objective 1. Section II: The Tracking Tool has two main sections: datasheets and assessment form. Both sections should be completed. 1. Datasheets: the data sheet comprises of two separate sections:  Data sheet 1: records details of the assessment and some basic information about the site, such as name, size and location etc.  Data sheet 2: provides a generic list of threats which protected areas can face. On this data sheet the assessors are asked to identify threats and rank their impact on the protected area. 2. Assessment Form: the assessment is structured around 30 questions presented in table format which includes three columns for recording details of the assessment, all of which should be completed.
B8: Important: Please read the Guidelines posted on the GEF website before entering your data
B10: Data Sheet 1: Reporting Progress at Protected Area Sites | C10: Please indicate your answer here | D10: Notes
B12: Name, affiliation and contact details for person responsible for completing the METT (email etc.) | C12: Yelebulati, Liangheyuan Nature Reserve Management Authority, alt55@126.com
B13: Date assessment carried out | C13: Jun. 28, 2012 | D13: Month DD, YYYY (e.g., May 12, 2010)
B14: Name of protected area | C14: Xinjiang-Liangheyuan
B15: WDPA site code (these codes can be found on www.unep-wcmc.org/wdpa/) | C15: 315933
B16: Designations(please choose 1-3) | C16: 3 | D16: 1: National 2: IUCN Category 3: International (please complete lines 35-69 as necessary )
B17: Country | C17: People's Republic of China
B18: Location of protected area (province and if possible map reference) | C18: Xinjiang Uygur Autonomous Region
B19: Date of establishment | C19: 2001
B20: Ownership details (please choose 1-4) | C20: 1 | D20: 1: State 2: Private 3: Community 4: Other
B21: Management Authority | C21: Xinjiang Altai Liangheyuan Nature Reserve Management Bureau
B22: Size of protected area (ha) | C22: 680776
B23: Number of Permanent staff | C23: 50
B24: Number of Temporary staff | C24: 5
B25: Annual budget (US$) for recurrent (operational) funds – excluding staff salary costs | C25: 62794
B26: Annual budget (US$) for project or other supplementary funds – excluding staff salary costs | C26: 5218210
B27: What are the main values for which the area is designated | C27: To conserve wetland ecosystem, Altai mountain forest and forest steppe, alpine meadow, and associated wildlife.
B28: List the two primary protected area management objectives in below:
B29: Management objective 1 | C29: To protect Altai mountain forest ecosystems
B30: Management objective 2 | C30: To conserve wetland ecosystems
B31: No. of people involved in completing assessment | C31: 4
B32: Including: (please choose 1-8) | C32: 2 | D32: 1: PA manager 2: PA staff 3: Other PA agency staff 4: Donors 5: NGOs 6: External experts 7: Local community 8: Other
B34: Information on International Designations | C34: Please indicate your answer here
B36: UNESCO World Heritage site (see: http://whc.unesco.org/en/list) | C36: n/a
B37: Date Listed
B38: Site name
B39: Site area
B40: Geographical co-ordinates
B42: Criteria for designation | D42: (i.e. criteria i to x)
B43: Statement of Outstanding Universal Value
B45: Ramsar site (see: http://ramsar.wetlands.org) | C45: n/a
B46: Date Listed
B47: Site name
B48: Site area
B49: Geographical number
...

Sheet Objective 1. Section II-2
B1: Tracking Tool for Biodiversity Projects in GEF-3, GEF-4, and GEF-5
B4: Objective 1: Catalyzing Sustainability of Protected Area Systems
B5: SECTION II: Management Effectiveness Tracking Tool for Protected Areas
B7: Note: Please complete the management effectiveness tracking tool for EACH protected area that is the target of the GEF intervention and create a new worksheet for each. Structure and content of the Tracking Tool - Objective 1. Section II: The Tracking Tool has two main sections: datasheets and assessment form. Both sections should be completed. 1. Datasheets: the data sheet comprises of two separate sections:  Data sheet 1: records details of the assessment and some basic information about the site, such as name, size and location etc.  Data sheet 2: provides a generic list of threats which protected areas can face. On this data sheet the assessors are asked to identify threats and rank their impact on the protected area. 2. Assessment Form: the assessment is structured around 30 questions presented in table format which includes three columns for recording details of the assessment, all of which should be completed.
B8: Important: Please read the Guidelines posted on the GEF website before entering your data
B10: Data Sheet 1: Reporting Progress at Protected Area Sites | C10: Please indicate your answer here | D10: Notes
B12: Name, affiliation and contact details for person responsible for completing the METT (email etc.) | C12: Tang Xingbing, Altai Kekesu Wetland Nature Reserve Management Station, 0906-6281016, 91345970@qq.com
B13: Date assessment carried out | C13: Jun. 26, 2012 | D13: Month DD, YYYY (e.g., May 12, 2010)
B14: Name of protected area | C14: Xinjiang-Kekesu
B15: WDPA site code (these codes can be found on www.unep-wcmc.org/wdpa/) | C15: 315935
B16: Designations(please choose 1-3) | C16: 3 | D16: 1: National 2: IUCN Category 3: International (please complete lines 35-69 as necessary )
B17: Country | C17: People's Republic of China
B18: Location of protected area (province and if possible map reference) | C18: Xinjiang Uygur Autonomous Region
B19: Date of establishment | C19: September, 2001
B20: Ownership details (please choose 1-4) | C20: 1 | D20: 1: State 2: Private 3: Community 4: Other
B21: Management Authority | C21: Altai Kekesu Wetland Nature Reserve Management Station
B22: Size of protected area (ha) | C22: 30667
B23: Number of Permanent staff | C23: 12
B24: Number of Temporary staff | C24: 5
B25: Annual budget (US$) for recurrent (operational) funds – excluding staff salary costs | C25: 5000 | D25: Exchange rate: 1USD=6.37RMB
B26: Annual budget (US$) for project or other supplementary funds – excluding staff salary costs | C26: 158700 (Year 2007); 317500 (Year 2008); 733000 (Year 2009)
B27: What are the main values for which the area is designated | C27: Marsh wetlands and associated waterbirds
B28: List the two primary protected area management objectives in below:
B29: Management objective 1 | C29: To protect wetland ecosystems
B30: Management objective 2 | C30: To conserve wildlife, in particular waterbirds
B31: No. of people involved in completing assessment | C31: 3
B32: Including: (please choose 1-8) | C32: 2 | D32: 1: PA manager 2: PA staff 3: Other PA agency staff 4: Donors 5: NGOs 6: External experts 7: Local community 8: Other
B34: Information on International Designations | C34: Please indicate your answer here
B36: UNESCO World Heritage site (see: http://whc.unesco.org/en/list) | C36: n/a
B37: Date Listed
B38: Site name
B39: Site area
B40: Geographical co-ordinates
B42: Criteria for designation | D42: (i.e. criteria i to x)
B43: Statement of Outstanding Universal Value
B45: Ramsar site (see: http://ramsar.wetlands.org) | C45: n/a
B46: Date Listed
B47: Site name
B48: Site area
B49: Geographical number
...

Sheet Objective 1. Section II-3
B1: Tracking Tool for Biodiversity Projects in GEF-3, GEF-4, and GEF-5
B4: Objective 1: Catalyzing Sustainability of Protected Area Systems
B5: SECTION II: Management Effectiveness Tracking Tool for Protected Areas
B7: Note: Please complete the management effectiveness tracking tool for EACH protected area that is the target of the GEF intervention and create a new worksheet for each. Structure and content of the Tracking Tool - Objective 1. Section II: The Tracking Tool has two main sections: datasheets and assessment form. Both sections should be completed. 1. Datasheets: the data sheet comprises of two separate sections:  Data sheet 1: records details of the assessment and some basic information about the site, such as name, size and location etc.  Data sheet 2: provides a generic list of threats which protected areas can face. On this data sheet the assessors are asked to identify threats and rank their impact on the protected area. 2. Assessment Form: the assessment is structured around 30 questions presented in table format which includes three columns for recording details of the assessment, all of which should be completed.
B8: Important: Please read the Guidelines posted on the GEF website before entering your data
B10: Data Sheet 1: Reporting Progress at Protected Area Sites | C10: Please indicate your answer here | D10: Notes
B12: Name, affiliation and contact details for person responsible for completing the METT (email etc.) | C12: Lu Shan, Xinjiang Buergenheli Nature Reserve Protection Station, altlyjls@126.com
B13: Date assessment carried out | C13: Jun. 28, 2012 | D13: Month DD, YYYY (e.g., May 12, 2010)
B14: Name of protected area | C14: Xinjiang-Buergenheli
B15: WDPA site code (these codes can be found on www.unep-wcmc.org/wdpa/) | C15: 96125
B16: Designations(please choose 1-3) | C16: 3 | D16: 1: National 2: IUCN Category 3: International (please complete lines 35-69 as necessary )
B17: Country | C17: People's Republic of China
B18: Location of protected area (province and if possible map reference) | C18: Xinjiang Uygur Autonomous Region
B19: Date of establishment | C19: 1980
B20: Ownership details (please choose 1-4) | C20: 1 | D20: 1: State 2: Private 3: Community 4: Other
B21: Management Authority | C21: Buergenheli Nature Reserve Protection Station
B22: Size of protected area (ha) | C22: 5000
B23: Number of Permanent staff | C23: 10
B24: Number of Temporary staff | C24: 7
B25: Annual budget (US$) for recurrent (operational) funds – excluding staff salary costs | C25: 11298 | D25: Exchange rate: 1USD=6.37RMB
B26: Annual budget (US$) for project or other supplementary funds – excluding staff salary costs | C26: 4708
B27: What are the main values for which the area is designated | C27: to protect the endangered species--Xinjiang-Mongolia beaver (Castor fiber birulai)
B28: List the two primary protected area management objectives in below:
B29: Management objective 1 | C29: To maintain ca. 46 beaver families with a total of 200 population individuals
B30: Management objective 2 | C30: To conserve riparian forests in the reserve to provide good habitats for beavers
B31: No. of people involved in completing assessment | C31: 1
B32: Including: (please choose 1-8) | C32: 2 | D32: 1: PA manager 2: PA staff 3: Other PA agency staff 4: Donors 5: NGOs 6: External experts 7: Local community 8: Other
B34: Information on International Designations | C34: Please indicate your answer here
B36: UNESCO World Heritage site (see: http://whc.unesco.org/en/list) | C36: n/a
B37: Date Listed
B38: Site name
B39: Site area
B40: Geographical co-ordinates
B42: Criteria for designation | D42: (i.e. criteria i to x)
B43: Statement of Outstanding Universal Value
B45: Ramsar site (see: http://ramsar.wetlands.org) | C45: n/a
B46: Date Listed
B47: Site name
B48: Site area
B49: Geographical number
...

Sheet Objective 1. Section II-4
B1: Tracking Tool for Biodiversity Projects in GEF-3, GEF-4, and GEF-5
B4: Objective 1: Catalyzing Sustainability of Protected Area Systems
B5: SECTION II: Management Effectiveness Tracking Tool for Protected Areas
B7: Note: Please complete the management effectiveness tracking tool for EACH protected area that is the target of the GEF intervention and create a new worksheet for each. Structure and content of the Tracking Tool - Objective 1. Section II: The Tracking Tool has two main sections: datasheets and assessment form. Both sections should be completed. 1. Datasheets: the data sheet comprises of two separate sections:  Data sheet 1: records details of the assessment and some basic information about the site, such as name, size and location etc.  Data sheet 2: provides a generic list of threats which protected areas can face. On this data sheet the assessors are asked to identify threats and rank their impact on the protected area. 2. Assessment Form: the assessment is structured around 30 questions presented in table format which includes three columns for recording details of the assessment, all of which should be completed.
B8: Important: Please read the Guidelines posted on the GEF website before entering your data
B10: Data Sheet 1: Reporting Progress at Protected Area Sites | C10: Please indicate your answer here | D10: Notes
B12: Name, affiliation and contact details for person responsible for completing the METT (email etc.) | C12: Sun Zhijiang, Hanasi National Nature Reserve Management Authority, knslyj@sina.com
B13: Date assessment carried out | C13: Jun. 28, 2012 | D13: Month DD, YYYY (e.g., May 12, 2010)
B14: Name of protected area | C14: Xinjiang-Hanasi
B15: WDPA site code (these codes can be found on www.unep-wcmc.org/wdpa/) | C15: 96123
B16: Designations(please choose 1-3) | C16: 3 | D16: 1: National 2: IUCN Category 3: International (please complete lines 35-69 as necessary )
B17: Country | C17: People's Republic of China
B18: Location of protected area (province and if possible map reference) | C18: Xinjiang Uygur Autonomous Region
B19: Date of establishment | C19: 1980
B20: Ownership details (please choose 1-4) | C20: 1 | D20: 1: State 2: Private 3: Community 4: Other
B21: Management Authority | C21: Hanasi National Nature Reserve Management Authority
B22: Size of protected area (ha) | C22: 220162
B23: Number of Permanent staff | C23: 150
B24: Number of Temporary staff | C24: 150
B25: Annual budget (US$) for recurrent (operational) funds – excluding staff salary costs | C25: 1412872 | D25: Exchange rate: 1USD=6.37RMB
B26: Annual budget (US$) for project or other supplementary funds – excluding staff salary costs | C26: 1412872
B27: What are the main values for which the area is designated | C27: To protect wildlife and pristine forests
B28: List the two primary protected area management objectives in below:
B29: Management objective 1 | C29: To strengthen forest resources management
B30: Management objective 2 | C30: To conserve the safety of wildlife
B31: No. of people involved in completing assessment | C31: 2
B32: Including: (please choose 1-8) | C32: 2 | D32: 1: PA manager 2: PA staff 3: Other PA agency staff 4: Donors 5: NGOs 6: External experts 7: Local community 8: Other
B34: Information on International Designations | C34: Please indicate your answer here
B36: UNESCO World Heritage site (see: http://whc.unesco.org/en/list) | C36: n/a
B37: Date Listed
B38: Site name
B39: Site area
B40: Geographical co-ordinates
B42: Criteria for designation | D42: (i.e. criteria i to x)
B43: Statement of Outstanding Universal Value
B45: Ramsar site (see: http://ramsar.wetlands.org) | C45: n/a
B46: Date Listed
B47: Site name
B48: Site area
B49: Geographical number
...

Sheet Objective 1. Section II-5
B1: Tracking Tool for Biodiversity Projects in GEF-3, GEF-4, and GEF-5
B4: Objective 1: Catalyzing Sustainability of Protected Area Systems
B5: SECTION II: Management Effectiveness Tracking Tool for Protected Areas
B7: Note: Please complete the management effectiveness tracking tool for EACH protected area that is the target of the GEF intervention and create a new worksheet for each. Structure and content of the Tracking Tool - Objective 1. Section II: The Tracking Tool has two main sections: datasheets and assessment form. Both sections should be completed. 1. Datasheets: the data sheet comprises of two separate sections:  Data sheet 1: records details of the assessment and some basic information about the site, such as name, size and location etc.  Data sheet 2: provides a generic list of threats which protected areas can face. On this data sheet the assessors are asked to identify threats and rank their impact on the protected area. 2. Assessment Form: the assessment is structured around 30 questions presented in table format which includes three columns for recording details of the assessment, all of which should be completed.
B8: Important: Please read the Guidelines posted on the GEF website before entering your data
B10: Data Sheet 1: Reporting Progress at Protected Area Sites | C10: Please indicate your answer here | D10: Notes
B12: Name, affiliation and contact details for person responsible for completing the METT (email etc.) | C12: Zhang Li, Xinjiang Erqisihekeketuohai Nature Reserve Management Authority, 13809963218
B13: Date assessment carried out | C13: Jun. 28, 2012 | D13: Month DD, YYYY (e.g., May 12, 2010)
B14: Name of protected area | C14: Xinjiang-Erqisihekeketuohai
B15: WDPA site code (these codes can be found on www.unep-wcmc.org/wdpa/) | C15: n/a
B16: Designations(please choose 1-3) | C16: 3 | D16: 1: National 2: IUCN Category 3: International (please complete lines 35-69 as necessary )
B17: Country | C17: People's Republic of China
B18: Location of protected area (province and if possible map reference) | C18: Xinjiang Uygur Autonomous Region
B19: Date of establishment | C19: February, 2005
B20: Ownership details (please choose 1-4) | C20: 1 | D20: 1: State 2: Private 3: Community 4: Other
B21: Management Authority | C21: Xinjiang Erqisihekeketuohai Nature Reserve Management Authority
B22: Size of protected area (ha) | C22: 99043.7
B23: Number of Permanent staff | C23: 5
B24: Number of Temporary staff | C24: 5
B25: Annual budget (US$) for recurrent (operational) funds – excluding staff salary costs | C25: 23000 | D25: Exchange rate: 1USD=6.37RMB
B26: Annual budget (US$) for project or other supplementary funds – excluding staff salary costs | C26: 0 | D26: =150000/6.37 -> 23547.881
B27: What are the main values for which the area is designated | C27: To conserve the wetland ecosystems in the reserve
B28: List the two primary protected area management objectives in below:
B29: Management objective 1 | C29: To conserve the wetland ecosystems
B30: Management objective 2 | C30: To protect associated waterbirds in the wetland ecosystems
B31: No. of people involved in completing assessment | C31: 3
B32: Including: (please choose 1-8) | C32: 2 | D32: 1: PA manager 2: PA staff 3: Other PA agency staff 4: Donors 5: NGOs 6: External experts 7: Local community 8: Other
B34: Information on International Designations | C34: Please indicate your answer here
B36: UNESCO World Heritage site (see: http://whc.unesco.org/en/list) | C36: n/a
B37: Date Listed
B38: Site name
B39: Site area
B40: Geographical co-ordinates
B42: Criteria for designation | D42: (i.e. criteria i to x)
B43: Statement of Outstanding Universal Value
B45: Ramsar site (see: http://ramsar.wetlands.org) | C45: n/a
B46: Date Listed
B47: Site name
B48: Site area
B49: Geographical number
...

Sheet Objective 1. Section III
B1: Tracking Tool for Biodiversity Projects in GEF-3, GEF-4, and GEF-5
B4: Objective 1: Catalyzing Sustainability of Protected Area Systems
B5: SECTION III: Financial Sustainability Scorecard
B7: Note: Please complete the financial sustainability scorecard for each project that is focusing on improving the financial sustainability of a PA system or an individual PA, per outcome 1.2 in the GEF biodiversity strategy. As we did in GEF-4, we will use the scorecard that was developed by Andrew Bovarnick of UNDP as it addresses our needs in a comprehensive fashion. The scorecard has three sections: Part I – Overall financial status of the protected areas system. This includes basic protected area information and a financial analysis of the national protected area system. Part II – Assessing elements of the financing system. Part III – Scoring.
B8: Important: Please read the Guidelines posted on the GEF website before entering your data
B10: Part I: Protected Areas System, sub-systems and networks in Xinjiang Uyghur Autonomous Region (XUAR)
B11: Part I requires financial data to determine the costs, revenues and financing gaps of the PA system both in the current year and as forecast for the future. It provides a quantitative analysis of the PA system and shows the financial data needed by PA planners needed to determine financial targets and hence the quantity of additional funds required to finance effective management of their PA system. As different countries have different accounting systems certain data requirements may vary in their relevance for each country. However, where financial data is absent, the first activity the PA authority should be to generate and collect the data.
B13: Part 1.1 – Basic Information on Protected Area System, Sub-systems and Networks in XUAR. Detail in the Table every sub-system and network within the XUAR.
B14: Protected Areas System, sub-systems and networks in XUAR | C14: Number of sites | D14: Terrestrial hectares covered | E14: Marine hectares covered[1] | F14: Total hectares covered | G14: Institution responsible for PA management
B15: Provincial System of PAs in XUAR
B16: PA Sub-system: Nature Reserves in Xinjiang Uyhur Autonomous Region (XAUR)) | C16: =SUM(C17:C19)+SUM(C21:C23) -> 35 | D16: =SUM(D17:D19)+SUM(D21:D23) -> 22952334 | E16: =SUM(E17:E19)+SUM(E21:E23) -> 0 | F16: =SUM(F17:F19)+SUM(F21:F23) -> 22952334
B17: PA sub-system 1 – national nature reserves | C17: 9 | D17: 13654878 | E17: 0 | F17: =SUM(D17:E17) -> 13654878 | G17: Xinjiang Forestry Department (XFD), and Xinjiang Environment Protection Department (XEPD)
B18: PA sub-system 2 - provincial nature reserves | C18: 21 | D18: 8362316 | E18: 0 | F18: =SUM(D18:E18) -> 8362316 | G18: SFD and Xinjiang Agriculture Department (XAD)
B19: PA sub-system 3 - sub-provincial nature reserves | C19: 5 | D19: 935140 | E19: 0 | F19: =SUM(D19:E19) -> 935140 | G19: XFD
B20: Network
B21: Network 1 - Insert name
B22: Network 2 – Insert name
B23: Additional networks
B24: [1] MPAs should be detailed separately to terrestrial PAs as they tend to be much larger in size and have different cost structures
B26: Part 1.2 – Financial Analysis of the Protected Area System in XUAR
B28: Financial Analysis of the Nature Reserve Sub-System in XUAR | C28: Baseline year 2012 (US$) [1][2] | D28: Year 2012 (US$) [3][4] | E28: Comments Add the source of data and state confidence in data (low, medium, high)
E29: Please note that: the following financial estimation and analysis is confined to the nature reserve network in XUAR given the fact that nature reserve sub-system implicitly dominates and represents the financial status of PA network in XUAR due to its significant weight in the PA system in the region in terms of its coverage/percentage in PA system and significance.
B30: Available Finances[5]
B32: (1) Total annual central government budget allocated to PA management (excluding donor funds and revenues generated for the PA system) | C32: =SUM(C33:C34) -> 7014033 | D32: =SUM(D33:D34) -> 7014033
B33: - operational budget (salaries, maintenance, fuel etc) | C33: 5482905 | D33: 5482905 | E33: Statistic data derived from relevant governmental accounting reports.
B34: - infrastructure investment budget (roads, visitor centres etc) | C34: 1531128 | D34: 1531128 | E34: Statistic data derived from relevant governmental accounting reports.
B35: (2) Extra budgetary funding for PA management | E35: Specify sources of funds
B36: - Total of A + B - | C36: =C37+C45 -> 0 | D36: =D37+D45 -> 0
B37: A. Funds channelled through government - total | C37: 0 | D37: 0
B38: - PA dedicated taxes | C38: n/a | D38: n/a | E38: eg a conservation departure tax or water fees re-invested in PAs
B39: - Trust Funds | C39: n/a | D39: n/a | E39: Only include available funds for the year and not amounts contributed for capitalization
B40: - Donor funds | C40: n/a | D40: n/a
B41: - Loans | C41: n/a | D41: n/a
B42: - Debt for nature swaps | C42: n/a | D42: n/a
B43: - Others
B45: B. Funds channelled through third party/independent institutional arrangements – total | C45: 0 | D45: 0
B46: - Trust Funds | C46: n/a | D46: n/a
B47: - Donor funds | C47: n/a | D47: n/a
B48: - Loans | C48: n/a | D48: n/a
B49: - Others | C49: n/a | D49: n/a
...
